BEGIN:VCALENDAR
PRODID:-//eluceo/ical//2.0/EN
VERSION:2.0
CALSCALE:GREGORIAN
BEGIN:VEVENT
UID:c7278503880ce684f1c0f0b43ef33f1d
DTSTAMP:20260424T085134Z
SUMMARY:Landgræðslunefnd
DESCRIPTION:
URL:https://kopavogur.rotary1360.is/is/agenda/show/2973
DTSTART;TZID=Iceland:20210907T173000
DTEND;TZID=Iceland:20210907T190000
LOCATION:Ferð í Hvalfjörð með mökum
CATEGORIES:Rotary
END:VEVENT
BEGIN:VTIMEZONE
TZID:Iceland
BEGIN:STANDARD
DTSTART:20210907T173000
TZNAME:GMT
TZOFFSETTO:+0000
TZOFFSETFROM:+0000
END:STANDARD
END:VTIMEZONE
END:VCALENDAR
